Package: CytoDx Version: 1.24.0 Command: /Library/Frameworks/R.framework/Resources/bin/R CMD build --keep-empty-dirs --no-resave-data CytoDx StartedAt: 2024-06-09 16:22:13 -0400 (Sun, 09 Jun 2024) EndedAt: 2024-06-09 16:22:41 -0400 (Sun, 09 Jun 2024) EllapsedTime: 27.2 seconds RetCode: 0 Status: OK PackageFile: CytoDx_1.24.0.tar.gz PackageFileSize: 661.9 KiB