Package: CyTOFpower Version: 1.10.0 Command: E:\biocbuild\bbs-3.19-bioc\R\bin\R.exe CMD check --no-multiarch --install=check:CyTOFpower.install-out.txt --library=E:\biocbuild\bbs-3.19-bioc\R\library --no-vignettes --timings CyTOFpower_1.10.0.tar.gz StartedAt: 2024-10-17 00:31:31 -0400 (Thu, 17 Oct 2024) EndedAt: 2024-10-17 00:32:48 -0400 (Thu, 17 Oct 2024) EllapsedTime: 77.0 seconds RetCode: 1 Status: ERROR CheckDir: CyTOFpower.Rcheck Warnings: NA