Package: CyTOFpower Version: 1.10.0 Command: chmod a+r CyTOFpower -R && E:\biocbuild\bbs-3.19-bioc\R\bin\R.exe CMD build --keep-empty-dirs --no-resave-data CyTOFpower StartedAt: 2024-10-16 18:29:45 -0400 (Wed, 16 Oct 2024) EndedAt: 2024-10-16 18:30:01 -0400 (Wed, 16 Oct 2024) EllapsedTime: 15.3 seconds RetCode: 0 Status: OK PackageFile: CyTOFpower_1.10.0.tar.gz PackageFileSize: 312.1 KiB