Package: CyTOFpower Version: 1.10.0 Command: rm -rf CyTOFpower.buildbin-libdir && mkdir CyTOFpower.buildbin-libdir && /Users/biocbuild/BBS/utils/build-universal.sh CyTOFpower_1.10.0.tar.gz /Library/Frameworks/R.framework/Resources/bin/R CyTOFpower.buildbin-libdir StartedAt: 2024-10-17 15:57:54 -0400 (Thu, 17 Oct 2024) EndedAt: 2024-10-17 15:58:09 -0400 (Thu, 17 Oct 2024) EllapsedTime: 14.9 seconds RetCode: 0 Status: OK PackageFile: CyTOFpower_1.10.0.tgz PackageFileSize: 617.6 KiB