Package: CuratedAtlasQueryR Version: 1.2.0 Command: chmod a+r CuratedAtlasQueryR -R && E:\biocbuild\bbs-3.19-bioc\R\bin\R.exe CMD build --keep-empty-dirs --no-resave-data CuratedAtlasQueryR StartedAt: 2024-10-16 18:28:04 -0400 (Wed, 16 Oct 2024) EndedAt: 2024-10-16 18:30:38 -0400 (Wed, 16 Oct 2024) EllapsedTime: 154.0 seconds RetCode: 0 Status: OK PackageFile: CuratedAtlasQueryR_1.2.0.tar.gz PackageFileSize: 906.7 KiB