Package: CuratedAtlasQueryR Version: 1.2.0 Command: rm -rf CuratedAtlasQueryR.buildbin-libdir && mkdir CuratedAtlasQueryR.buildbin-libdir && E:\biocbuild\bbs-3.19-bioc\R\bin\R.exe CMD INSTALL --build --library=CuratedAtlasQueryR.buildbin-libdir CuratedAtlasQueryR_1.2.0.tar.gz StartedAt: 2024-10-17 07:37:28 -0400 (Thu, 17 Oct 2024) EndedAt: 2024-10-17 07:38:54 -0400 (Thu, 17 Oct 2024) EllapsedTime: 85.8 seconds RetCode: 0 Status: OK PackageFile: CuratedAtlasQueryR_1.2.0.zip PackageFileSize: 951.4 KiB