Package: CuratedAtlasQueryR Version: 1.2.0 Command: chmod a+r CuratedAtlasQueryR -R && F:\biocbuild\bbs-3.19-bioc\R\bin\R.exe CMD build --keep-empty-dirs --no-resave-data CuratedAtlasQueryR StartedAt: 2024-06-26 18:06:08 -0400 (Wed, 26 Jun 2024) EndedAt: 2024-06-26 18:08:34 -0400 (Wed, 26 Jun 2024) EllapsedTime: 146.0 seconds RetCode: 0 Status: OK PackageFile: CuratedAtlasQueryR_1.2.0.tar.gz PackageFileSize: 906.7 KiB