Package: CuratedAtlasQueryR Version: 1.2.0 Command: /home/biocbuild/R/R-beta-2024-04-15_r86425/bin/R CMD build --keep-empty-dirs --no-resave-data CuratedAtlasQueryR StartedAt: 2024-05-08 23:39:44 -0000 (Wed, 08 May 2024) EndedAt: 2024-05-08 23:42:45 -0000 (Wed, 08 May 2024) EllapsedTime: 180.2 seconds RetCode: 0 Status: OK PackageFile: CuratedAtlasQueryR_1.2.0.tar.gz PackageFileSize: 915.6 KiB