Package: CuratedAtlasQueryR Version: 1.2.0 Command: /Library/Frameworks/R.framework/Resources/bin/R CMD build --keep-empty-dirs --no-resave-data CuratedAtlasQueryR StartedAt: 2024-10-16 22:32:06 -0400 (Wed, 16 Oct 2024) EndedAt: 2024-10-16 22:34:49 -0400 (Wed, 16 Oct 2024) EllapsedTime: 163.3 seconds RetCode: 0 Status: OK PackageFile: CuratedAtlasQueryR_1.2.0.tar.gz PackageFileSize: 966.9 KiB