Package: CrispRVariants Version: 1.32.0 Command: chmod a+r CrispRVariants -R && F:\biocbuild\bbs-3.19-bioc\R\bin\R.exe CMD build --keep-empty-dirs --no-resave-data CrispRVariants StartedAt: 2024-06-26 18:04:05 -0400 (Wed, 26 Jun 2024) EndedAt: 2024-06-26 18:06:29 -0400 (Wed, 26 Jun 2024) EllapsedTime: 144.1 seconds RetCode: 0 Status: OK PackageFile: CrispRVariants_1.32.0.tar.gz PackageFileSize: 2.009 MiB