Package: CrispRVariants Version: 1.32.0 Command: /home/biocbuild/bbs-3.19-bioc/R/bin/R CMD INSTALL CrispRVariants StartedAt: 2024-10-16 16:03:21 -0400 (Wed, 16 Oct 2024) EndedAt: 2024-10-16 16:04:04 -0400 (Wed, 16 Oct 2024) EllapsedTime: 42.6 seconds RetCode: 0 Status: OK