Package: CrispRVariants Version: 1.32.0 Command: /home/biocbuild/R/R-beta-2024-04-15_r86425/bin/R CMD build --keep-empty-dirs --no-resave-data CrispRVariants StartedAt: 2024-05-08 23:36:36 -0000 (Wed, 08 May 2024) EndedAt: 2024-05-08 23:39:38 -0000 (Wed, 08 May 2024) EllapsedTime: 182.2 seconds RetCode: 0 Status: OK PackageFile: CrispRVariants_1.32.0.tar.gz PackageFileSize: 2.19 MiB