Package: Cormotif Version: 1.50.0 Command: chmod a+r Cormotif -R && E:\biocbuild\bbs-3.19-bioc\R\bin\R.exe CMD build --keep-empty-dirs --no-resave-data Cormotif StartedAt: 2024-10-16 18:23:42 -0400 (Wed, 16 Oct 2024) EndedAt: 2024-10-16 18:24:54 -0400 (Wed, 16 Oct 2024) EllapsedTime: 72.2 seconds RetCode: 0 Status: OK PackageFile: Cormotif_1.50.0.tar.gz PackageFileSize: 273.6 KiB