Package: Cormotif Version: 1.50.0 Command: /home/biocbuild/bbs-3.19-bioc/R/bin/R CMD check --install=check:Cormotif.install-out.txt --library=/home/biocbuild/bbs-3.19-bioc/R/site-library --timings Cormotif_1.50.0.tar.gz StartedAt: 2024-10-16 23:07:06 -0400 (Wed, 16 Oct 2024) EndedAt: 2024-10-16 23:08:10 -0400 (Wed, 16 Oct 2024) EllapsedTime: 64.2 seconds RetCode: 0 Status: OK CheckDir: Cormotif.Rcheck Warnings: 0