Package: Cormotif Version: 1.50.0 Command: /home/biocbuild/bbs-3.19-bioc/R/bin/R CMD build --keep-empty-dirs --no-resave-data Cormotif StartedAt: 2024-10-16 17:57:38 -0400 (Wed, 16 Oct 2024) EndedAt: 2024-10-16 17:58:15 -0400 (Wed, 16 Oct 2024) EllapsedTime: 37.1 seconds RetCode: 0 Status: OK PackageFile: Cormotif_1.50.0.tar.gz PackageFileSize: 271.7 KiB