Package: Cormotif Version: 1.50.0 Command: rm -rf Cormotif.buildbin-libdir && mkdir Cormotif.buildbin-libdir && /Users/biocbuild/BBS/utils/build-universal.sh Cormotif_1.50.0.tar.gz /Library/Frameworks/R.framework/Resources/bin/R Cormotif.buildbin-libdir StartedAt: 2024-10-18 17:56:41 -0400 (Fri, 18 Oct 2024) EndedAt: 2024-10-18 17:56:48 -0400 (Fri, 18 Oct 2024) EllapsedTime: 6.8 seconds RetCode: 0 Status: OK PackageFile: Cormotif_1.50.0.tgz PackageFileSize: 430 KiB