Package: CoreGx Version: 2.8.0 Command: /Library/Frameworks/R.framework/Resources/bin/R CMD INSTALL CoreGx StartedAt: 2024-06-09 15:32:41 -0400 (Sun, 09 Jun 2024) EndedAt: 2024-06-09 15:33:31 -0400 (Sun, 09 Jun 2024) EllapsedTime: 50.4 seconds RetCode: 0 Status: OK