Package: CoreGx Version: 2.8.0 Command: /Library/Frameworks/R.framework/Resources/bin/R CMD build --keep-empty-dirs --no-resave-data CoreGx StartedAt: 2024-10-16 22:10:11 -0400 (Wed, 16 Oct 2024) EndedAt: 2024-10-16 22:11:21 -0400 (Wed, 16 Oct 2024) EllapsedTime: 69.6 seconds RetCode: 0 Status: OK PackageFile: CoreGx_2.8.0.tar.gz PackageFileSize: 1.364 MiB