Package: CoreGx Version: 2.8.0 Command: rm -rf CoreGx.buildbin-libdir && mkdir CoreGx.buildbin-libdir && /Users/biocbuild/BBS/utils/build-universal.sh CoreGx_2.8.0.tar.gz /Library/Frameworks/R.framework/Resources/bin/R CoreGx.buildbin-libdir StartedAt: 2024-10-18 17:56:38 -0400 (Fri, 18 Oct 2024) EndedAt: 2024-10-18 17:57:33 -0400 (Fri, 18 Oct 2024) EllapsedTime: 54.5 seconds RetCode: 0 Status: OK PackageFile: CoreGx_2.8.0.tgz PackageFileSize: 2.421 MiB