Package: CoreGx Version: 2.8.0 Maintainer: Benjamin Haibe-Kains MaintainerEmail: benjamin.haibe.kains at utoronto.ca git_url: https://git.bioconductor.org/packages/CoreGx git_branch: RELEASE_3_19 git_last_commit: 8383850 git_last_commit_date: 2024-04-30 11:23:55 -0400 (Tue, 30 Apr 2024)