Package: CopyNumberPlots Version: 1.20.0 Command: chmod a+r CopyNumberPlots -R && E:\biocbuild\bbs-3.19-bioc\R\bin\R.exe CMD build --keep-empty-dirs --no-resave-data CopyNumberPlots StartedAt: 2024-10-16 18:23:13 -0400 (Wed, 16 Oct 2024) EndedAt: 2024-10-16 18:25:07 -0400 (Wed, 16 Oct 2024) EllapsedTime: 115.0 seconds RetCode: 0 Status: OK PackageFile: CopyNumberPlots_1.20.0.tar.gz PackageFileSize: 804.1 KiB