Package: CopyNumberPlots Version: 1.20.0 Command: rm -rf CopyNumberPlots.buildbin-libdir && mkdir CopyNumberPlots.buildbin-libdir && F:\biocbuild\bbs-3.19-bioc\R\bin\R.exe CMD INSTALL --build --library=CopyNumberPlots.buildbin-libdir CopyNumberPlots_1.20.0.tar.gz StartedAt: 2024-06-27 08:02:37 -0400 (Thu, 27 Jun 2024) EndedAt: 2024-06-27 08:03:46 -0400 (Thu, 27 Jun 2024) EllapsedTime: 68.9 seconds RetCode: 0 Status: OK PackageFile: CopyNumberPlots_1.20.0.zip PackageFileSize: 935.8 KiB