Package: CopyNumberPlots Version: 1.20.0 Command: /home/biocbuild/bbs-3.19-bioc/R/bin/R CMD INSTALL CopyNumberPlots StartedAt: 2024-10-16 16:20:55 -0400 (Wed, 16 Oct 2024) EndedAt: 2024-10-16 16:21:38 -0400 (Wed, 16 Oct 2024) EllapsedTime: 42.8 seconds RetCode: 0 Status: OK