Package: CopyNumberPlots Version: 1.20.0 Command: /home/biocbuild/bbs-3.19-bioc/R/bin/R CMD check --install=check:CopyNumberPlots.install-out.txt --library=/home/biocbuild/bbs-3.19-bioc/R/site-library --timings CopyNumberPlots_1.20.0.tar.gz StartedAt: 2024-10-16 23:06:35 -0400 (Wed, 16 Oct 2024) EndedAt: 2024-10-16 23:12:38 -0400 (Wed, 16 Oct 2024) EllapsedTime: 362.8 seconds RetCode: 0 Status: OK CheckDir: CopyNumberPlots.Rcheck Warnings: 0