Package: CopyNumberPlots Version: 1.20.0 Command: /Library/Frameworks/R.framework/Resources/bin/R CMD build --keep-empty-dirs --no-resave-data CopyNumberPlots StartedAt: 2024-10-16 18:13:47 -0400 (Wed, 16 Oct 2024) EndedAt: 2024-10-16 18:17:44 -0400 (Wed, 16 Oct 2024) EllapsedTime: 237.7 seconds RetCode: 0 Status: OK PackageFile: CopyNumberPlots_1.20.0.tar.gz PackageFileSize: 2.895 MiB