Package: CopyNumberPlots Version: 1.20.0 Command: rm -rf CopyNumberPlots.buildbin-libdir && mkdir CopyNumberPlots.buildbin-libdir && /Users/biocbuild/BBS/utils/build-universal.sh CopyNumberPlots_1.20.0.tar.gz /Library/Frameworks/R.framework/Resources/bin/R CopyNumberPlots.buildbin-libdir StartedAt: 2024-10-17 15:55:11 -0400 (Thu, 17 Oct 2024) EndedAt: 2024-10-17 15:56:58 -0400 (Thu, 17 Oct 2024) EllapsedTime: 107.0 seconds RetCode: 0 Status: OK PackageFile: CopyNumberPlots_1.20.0.tgz PackageFileSize: 3.023 MiB