Package: CopyNumberPlots Version: 1.20.0 Command: /Library/Frameworks/R.framework/Resources/bin/R CMD INSTALL CopyNumberPlots StartedAt: 2024-06-09 15:28:21 -0400 (Sun, 09 Jun 2024) EndedAt: 2024-06-09 15:29:18 -0400 (Sun, 09 Jun 2024) EllapsedTime: 57.2 seconds RetCode: 0 Status: OK