Package: CopyNumberPlots Version: 1.20.0 Command: /Library/Frameworks/R.framework/Resources/bin/R CMD build --keep-empty-dirs --no-resave-data CopyNumberPlots StartedAt: 2024-06-09 16:18:31 -0400 (Sun, 09 Jun 2024) EndedAt: 2024-06-09 16:20:04 -0400 (Sun, 09 Jun 2024) EllapsedTime: 92.5 seconds RetCode: 0 Status: OK PackageFile: CopyNumberPlots_1.20.0.tar.gz PackageFileSize: 2.895 MiB