Package: CopyNumberPlots Version: 1.20.0 Command: /home/biocbuild/R/R-beta-2024-04-15_r86425/bin/R CMD build --keep-empty-dirs --no-resave-data CopyNumberPlots StartedAt: 2024-05-08 23:32:34 -0000 (Wed, 08 May 2024) EndedAt: 2024-05-08 23:34:52 -0000 (Wed, 08 May 2024) EllapsedTime: 138.2 seconds RetCode: 0 Status: OK PackageFile: CopyNumberPlots_1.20.0.tar.gz PackageFileSize: 1.007 MiB