Package: CopyNumberPlots Version: 1.20.0 Command: /Library/Frameworks/R.framework/Resources/bin/R CMD INSTALL CopyNumberPlots StartedAt: 2024-10-16 17:25:36 -0400 (Wed, 16 Oct 2024) EndedAt: 2024-10-16 17:26:30 -0400 (Wed, 16 Oct 2024) EllapsedTime: 53.9 seconds RetCode: 0 Status: OK