Package: CopyNumberPlots Version: 1.20.0 Command: rm -rf CopyNumberPlots.buildbin-libdir && mkdir CopyNumberPlots.buildbin-libdir && /Users/biocbuild/BBS/utils/build-universal.sh CopyNumberPlots_1.20.0.tar.gz /Library/Frameworks/R.framework/Resources/bin/R CopyNumberPlots.buildbin-libdir StartedAt: 2024-10-18 17:56:16 -0400 (Fri, 18 Oct 2024) EndedAt: 2024-10-18 17:57:20 -0400 (Fri, 18 Oct 2024) EllapsedTime: 64.4 seconds RetCode: 0 Status: OK PackageFile: CopyNumberPlots_1.20.0.tgz PackageFileSize: 3.042 MiB