Package: ConsensusClusterPlus Version: 1.68.0 Command: E:\biocbuild\bbs-3.19-bioc\R\bin\R.exe CMD INSTALL ConsensusClusterPlus StartedAt: 2024-10-16 16:03:22 -0400 (Wed, 16 Oct 2024) EndedAt: 2024-10-16 16:04:12 -0400 (Wed, 16 Oct 2024) EllapsedTime: 49.6 seconds RetCode: 0 Status: OK