Package: ConsensusClusterPlus Version: 1.68.0 Command: rm -rf ConsensusClusterPlus.buildbin-libdir && mkdir ConsensusClusterPlus.buildbin-libdir && E:\biocbuild\bbs-3.19-bioc\R\bin\R.exe CMD INSTALL --build --library=ConsensusClusterPlus.buildbin-libdir ConsensusClusterPlus_1.68.0.tar.gz StartedAt: 2024-10-17 07:35:19 -0400 (Thu, 17 Oct 2024) EndedAt: 2024-10-17 07:35:53 -0400 (Thu, 17 Oct 2024) EllapsedTime: 34.1 seconds RetCode: 0 Status: OK PackageFile: ConsensusClusterPlus_1.68.0.zip PackageFileSize: 199 KiB