Package: ConsensusClusterPlus Version: 1.68.0 Command: chmod a+r ConsensusClusterPlus -R && F:\biocbuild\bbs-3.19-bioc\R\bin\R.exe CMD build --keep-empty-dirs --no-resave-data ConsensusClusterPlus StartedAt: 2024-06-26 18:00:02 -0400 (Wed, 26 Jun 2024) EndedAt: 2024-06-26 18:00:24 -0400 (Wed, 26 Jun 2024) EllapsedTime: 22.4 seconds RetCode: 0 Status: OK PackageFile: ConsensusClusterPlus_1.68.0.tar.gz PackageFileSize: 166.2 KiB