Package: ConsensusClusterPlus Version: 1.68.0 Command: rm -rf ConsensusClusterPlus.buildbin-libdir && mkdir ConsensusClusterPlus.buildbin-libdir && F:\biocbuild\bbs-3.19-bioc\R\bin\R.exe CMD INSTALL --build --library=ConsensusClusterPlus.buildbin-libdir ConsensusClusterPlus_1.68.0.tar.gz StartedAt: 2024-06-27 08:02:20 -0400 (Thu, 27 Jun 2024) EndedAt: 2024-06-27 08:02:27 -0400 (Thu, 27 Jun 2024) EllapsedTime: 7.0 seconds RetCode: 0 Status: OK PackageFile: ConsensusClusterPlus_1.68.0.zip PackageFileSize: 198.6 KiB