Package: ConsensusClusterPlus Version: 1.68.0 Command: /home/biocbuild/bbs-3.19-bioc/R/bin/R CMD INSTALL ConsensusClusterPlus StartedAt: 2024-10-16 15:51:48 -0400 (Wed, 16 Oct 2024) EndedAt: 2024-10-16 15:51:59 -0400 (Wed, 16 Oct 2024) EllapsedTime: 11.4 seconds RetCode: 0 Status: OK