Package: ConsensusClusterPlus Version: 1.68.0 Command: /home/biocbuild/bbs-3.19-bioc/R/bin/R CMD check --install=check:ConsensusClusterPlus.install-out.txt --library=/home/biocbuild/bbs-3.19-bioc/R/site-library --timings ConsensusClusterPlus_1.68.0.tar.gz StartedAt: 2024-10-16 23:04:41 -0400 (Wed, 16 Oct 2024) EndedAt: 2024-10-16 23:05:10 -0400 (Wed, 16 Oct 2024) EllapsedTime: 29.1 seconds RetCode: 0 Status: OK CheckDir: ConsensusClusterPlus.Rcheck Warnings: 0