Package: ConsensusClusterPlus Version: 1.68.0 Command: /home/biocbuild/bbs-3.19-bioc/R/bin/R CMD build --keep-empty-dirs --no-resave-data ConsensusClusterPlus StartedAt: 2024-10-16 17:56:17 -0400 (Wed, 16 Oct 2024) EndedAt: 2024-10-16 17:56:27 -0400 (Wed, 16 Oct 2024) EllapsedTime: 10.0 seconds RetCode: 0 Status: OK PackageFile: ConsensusClusterPlus_1.68.0.tar.gz PackageFileSize: 230.8 KiB