Package: ConsensusClusterPlus Version: 1.68.0 Command: /Library/Frameworks/R.framework/Resources/bin/R CMD INSTALL ConsensusClusterPlus StartedAt: 2024-10-16 15:09:56 -0400 (Wed, 16 Oct 2024) EndedAt: 2024-10-16 15:10:31 -0400 (Wed, 16 Oct 2024) EllapsedTime: 35.0 seconds RetCode: 0 Status: OK