Package: ConsensusClusterPlus Version: 1.68.0 Command: /Library/Frameworks/R.framework/Resources/bin/R CMD check --install=check:ConsensusClusterPlus.install-out.txt --library=/Library/Frameworks/R.framework/Resources/library --no-vignettes --timings ConsensusClusterPlus_1.68.0.tar.gz StartedAt: 2024-06-09 19:36:46 -0400 (Sun, 09 Jun 2024) EndedAt: 2024-06-09 19:37:22 -0400 (Sun, 09 Jun 2024) EllapsedTime: 35.8 seconds RetCode: 0 Status: OK CheckDir: ConsensusClusterPlus.Rcheck Warnings: 0