Package: ConsensusClusterPlus Version: 1.68.0 Command: /Library/Frameworks/R.framework/Resources/bin/R CMD build --keep-empty-dirs --no-resave-data ConsensusClusterPlus StartedAt: 2024-06-09 16:17:31 -0400 (Sun, 09 Jun 2024) EndedAt: 2024-06-09 16:17:45 -0400 (Sun, 09 Jun 2024) EllapsedTime: 13.7 seconds RetCode: 0 Status: OK PackageFile: ConsensusClusterPlus_1.68.0.tar.gz PackageFileSize: 382.3 KiB