Package: ConsensusClusterPlus Version: 1.68.0 Command: /home/biocbuild/R/R-beta-2024-04-15_r86425/bin/R CMD build --keep-empty-dirs --no-resave-data ConsensusClusterPlus StartedAt: 2024-05-08 23:31:18 -0000 (Wed, 08 May 2024) EndedAt: 2024-05-08 23:31:34 -0000 (Wed, 08 May 2024) EllapsedTime: 16.0 seconds RetCode: 0 Status: OK PackageFile: ConsensusClusterPlus_1.68.0.tar.gz PackageFileSize: 382.9 KiB