Package: ConsensusClusterPlus Version: 1.68.0 Command: /Library/Frameworks/R.framework/Resources/bin/R CMD check --install=check:ConsensusClusterPlus.install-out.txt --library=/Library/Frameworks/R.framework/Resources/library --no-vignettes --timings ConsensusClusterPlus_1.68.0.tar.gz StartedAt: 2024-06-10 11:38:58 -0400 (Mon, 10 Jun 2024) EndedAt: 2024-06-10 11:39:57 -0400 (Mon, 10 Jun 2024) EllapsedTime: 59.6 seconds RetCode: 0 Status: OK CheckDir: ConsensusClusterPlus.Rcheck Warnings: 0