Package: ConsensusClusterPlus Version: 1.68.0 Command: rm -rf ConsensusClusterPlus.buildbin-libdir && mkdir ConsensusClusterPlus.buildbin-libdir && /Users/biocbuild/BBS/utils/build-universal.sh ConsensusClusterPlus_1.68.0.tar.gz /Library/Frameworks/R.framework/Resources/bin/R ConsensusClusterPlus.buildbin-libdir StartedAt: 2024-06-11 10:41:57 -0400 (Tue, 11 Jun 2024) EndedAt: 2024-06-11 10:42:05 -0400 (Tue, 11 Jun 2024) EllapsedTime: 7.9 seconds RetCode: 0 Status: OK PackageFile: ConsensusClusterPlus_1.68.0.tgz PackageFileSize: 412.2 KiB