Package: ConsensusClusterPlus Version: 1.68.0 Command: /Library/Frameworks/R.framework/Resources/bin/R CMD build --keep-empty-dirs --no-resave-data ConsensusClusterPlus StartedAt: 2024-10-16 22:06:37 -0400 (Wed, 16 Oct 2024) EndedAt: 2024-10-16 22:06:52 -0400 (Wed, 16 Oct 2024) EllapsedTime: 16.0 seconds RetCode: 0 Status: OK PackageFile: ConsensusClusterPlus_1.68.0.tar.gz PackageFileSize: 382.8 KiB