Package: ConsensusClusterPlus Version: 1.68.0 Command: rm -rf ConsensusClusterPlus.buildbin-libdir && mkdir ConsensusClusterPlus.buildbin-libdir && /Users/biocbuild/BBS/utils/build-universal.sh ConsensusClusterPlus_1.68.0.tar.gz /Library/Frameworks/R.framework/Resources/bin/R ConsensusClusterPlus.buildbin-libdir StartedAt: 2024-10-18 17:55:08 -0400 (Fri, 18 Oct 2024) EndedAt: 2024-10-18 17:55:14 -0400 (Fri, 18 Oct 2024) EllapsedTime: 5.7 seconds RetCode: 0 Status: OK PackageFile: ConsensusClusterPlus_1.68.0.tgz PackageFileSize: 412.5 KiB