Package: CompoundDb Version: 1.8.0 Command: rm -rf CompoundDb.buildbin-libdir && mkdir CompoundDb.buildbin-libdir && E:\biocbuild\bbs-3.19-bioc\R\bin\R.exe CMD INSTALL --build --library=CompoundDb.buildbin-libdir CompoundDb_1.8.0.tar.gz StartedAt: 2024-10-17 07:35:04 -0400 (Thu, 17 Oct 2024) EndedAt: 2024-10-17 07:36:01 -0400 (Thu, 17 Oct 2024) EllapsedTime: 57.0 seconds RetCode: 0 Status: OK PackageFile: CompoundDb_1.8.0.zip PackageFileSize: 1.436 MiB