Package: CompoundDb Version: 1.8.0 Command: F:\biocbuild\bbs-3.19-bioc\R\bin\R.exe CMD check --no-multiarch --install=check:CompoundDb.install-out.txt --library=F:\biocbuild\bbs-3.19-bioc\R\library --no-vignettes --timings CompoundDb_1.8.0.tar.gz StartedAt: 2024-06-27 00:21:32 -0400 (Thu, 27 Jun 2024) EndedAt: 2024-06-27 00:24:40 -0400 (Thu, 27 Jun 2024) EllapsedTime: 187.4 seconds RetCode: 0 Status: OK CheckDir: CompoundDb.Rcheck Warnings: 0