Package: CompoundDb Version: 1.8.0 Command: /home/biocbuild/bbs-3.19-bioc/R/bin/R CMD check --install=check:CompoundDb.install-out.txt --library=/home/biocbuild/bbs-3.19-bioc/R/site-library --timings CompoundDb_1.8.0.tar.gz StartedAt: 2024-10-16 23:02:59 -0400 (Wed, 16 Oct 2024) EndedAt: 2024-10-16 23:05:46 -0400 (Wed, 16 Oct 2024) EllapsedTime: 167.3 seconds RetCode: 0 Status: OK CheckDir: CompoundDb.Rcheck Warnings: 0