Package: CompoundDb Version: 1.8.0 Command: /home/biocbuild/bbs-3.19-bioc/R/bin/R CMD build --keep-empty-dirs --no-resave-data CompoundDb StartedAt: 2024-10-16 17:55:26 -0400 (Wed, 16 Oct 2024) EndedAt: 2024-10-16 17:56:01 -0400 (Wed, 16 Oct 2024) EllapsedTime: 35.1 seconds RetCode: 0 Status: OK PackageFile: CompoundDb_1.8.0.tar.gz PackageFileSize: 1.295 MiB